BEGIN:VCALENDAR
VERSION:2.0
PRODID:-//Churchfield Primary School - ECPv5.1.4//NONSGML v1.0//EN
CALSCALE:GREGORIAN
METHOD:PUBLISH
X-WR-CALNAME:Churchfield Primary School
X-ORIGINAL-URL:https://churchfieldprimary.org
X-WR-CALDESC:Events for Churchfield Primary School
BEGIN:VTIMEZONE
TZID:Europe/London
BEGIN:DAYLIGHT
TZOFFSETFROM:+0000
TZOFFSETTO:+0100
TZNAME:BST
DTSTART:20230326T010000
END:DAYLIGHT
BEGIN:STANDARD
TZOFFSETFROM:+0100
TZOFFSETTO:+0000
TZNAME:GMT
DTSTART:20231029T010000
END:STANDARD
END:VTIMEZONE
BEGIN:VEVENT
DTSTART;VALUE=DATE:20230630
DTEND;VALUE=DATE:20230701
DTSTAMP:20260420T171626
CREATED:20230522T152704Z
LAST-MODIFIED:20230522T152704Z
UID:3588-1688083200-1688169599@churchfieldprimary.org
SUMMARY:Inset Day
DESCRIPTION:
URL:https://churchfieldprimary.org/event/inset-day/
END:VEVENT
END:VCALENDAR